BEGIN:VCALENDAR
VERSION:2.0
PRODID:-//City of Alamo - ECPv6.15.20//NONSGML v1.0//EN
CALSCALE:GREGORIAN
METHOD:PUBLISH
X-WR-CALNAME:City of Alamo
X-ORIGINAL-URL:https://alamotexas.org
X-WR-CALDESC:Events for City of Alamo
REFRESH-INTERVAL;VALUE=DURATION:PT1H
X-Robots-Tag:noindex
X-PUBLISHED-TTL:PT1H
BEGIN:VTIMEZONE
TZID:America/Chicago
BEGIN:DAYLIGHT
TZOFFSETFROM:-0600
TZOFFSETTO:-0500
TZNAME:CDT
DTSTART:20240310T080000
END:DAYLIGHT
BEGIN:STANDARD
TZOFFSETFROM:-0500
TZOFFSETTO:-0600
TZNAME:CST
DTSTART:20241103T070000
END:STANDARD
BEGIN:DAYLIGHT
TZOFFSETFROM:-0600
TZOFFSETTO:-0500
TZNAME:CDT
DTSTART:20250309T080000
END:DAYLIGHT
BEGIN:STANDARD
TZOFFSETFROM:-0500
TZOFFSETTO:-0600
TZNAME:CST
DTSTART:20251102T070000
END:STANDARD
BEGIN:DAYLIGHT
TZOFFSETFROM:-0600
TZOFFSETTO:-0500
TZNAME:CDT
DTSTART:20260308T080000
END:DAYLIGHT
BEGIN:STANDARD
TZOFFSETFROM:-0500
TZOFFSETTO:-0600
TZNAME:CST
DTSTART:20261101T070000
END:STANDARD
END:VTIMEZONE
BEGIN:VEVENT
DTSTART;VALUE=DATE:20250526
DTEND;VALUE=DATE:20250527
DTSTAMP:20260422T122445
CREATED:20250205T002137Z
LAST-MODIFIED:20250205T002137Z
UID:10000476-1748217600-1748303999@alamotexas.org
SUMMARY:Memorial Day - City Offices Closed
DESCRIPTION:
URL:https://alamotexas.org/event/memorial-day-city-offices-closed/
LOCATION:TX
END:VEVENT
BEGIN:VEVENT
DTSTART;TZID=America/Chicago:20250526T130000
DTEND;TZID=America/Chicago:20250526T140000
DTSTAMP:20260422T122445
CREATED:20250522T195033Z
LAST-MODIFIED:20250522T200503Z
UID:10000506-1748264400-1748268000@alamotexas.org
SUMMARY:Memorial Day Ceremony
DESCRIPTION:Alamo\, we invite you to the Annual City of Alamo Memorial Day Ceremony on Monday\, May 26th\, at 1:00 PM at the St. Joseph Cemetery. \nLet us come together to remember and pay tribute to the sacrifice of all those who gave their lives for our freedom. This year\, we look back and we honor beloved Alamo son\, Sgt. Fernando De La Rosa.
URL:https://alamotexas.org/event/memorial-day-ceremony/
LOCATION:St. Joseph Cemetary\, 805 S. Tower Rd\, Alamo\, TX\, 78516\, United States
CATEGORIES:Events
END:VEVENT
END:VCALENDAR