BEGIN:VCALENDAR
VERSION:2.0
PRODID:-//City of Alamo - ECPv6.15.20//NONSGML v1.0//EN
CALSCALE:GREGORIAN
METHOD:PUBLISH
X-WR-CALNAME:City of Alamo
X-ORIGINAL-URL:https://alamotexas.org
X-WR-CALDESC:Events for City of Alamo
REFRESH-INTERVAL;VALUE=DURATION:PT1H
X-Robots-Tag:noindex
X-PUBLISHED-TTL:PT1H
BEGIN:VTIMEZONE
TZID:America/Chicago
BEGIN:DAYLIGHT
TZOFFSETFROM:-0600
TZOFFSETTO:-0500
TZNAME:CDT
DTSTART:20240310T080000
END:DAYLIGHT
BEGIN:STANDARD
TZOFFSETFROM:-0500
TZOFFSETTO:-0600
TZNAME:CST
DTSTART:20241103T070000
END:STANDARD
BEGIN:DAYLIGHT
TZOFFSETFROM:-0600
TZOFFSETTO:-0500
TZNAME:CDT
DTSTART:20250309T080000
END:DAYLIGHT
BEGIN:STANDARD
TZOFFSETFROM:-0500
TZOFFSETTO:-0600
TZNAME:CST
DTSTART:20251102T070000
END:STANDARD
BEGIN:DAYLIGHT
TZOFFSETFROM:-0600
TZOFFSETTO:-0500
TZNAME:CDT
DTSTART:20260308T080000
END:DAYLIGHT
BEGIN:STANDARD
TZOFFSETFROM:-0500
TZOFFSETTO:-0600
TZNAME:CST
DTSTART:20261101T070000
END:STANDARD
END:VTIMEZONE
BEGIN:VEVENT
DTSTART;TZID=America/Chicago:20250618T110000
DTEND;TZID=America/Chicago:20250618T120000
DTSTAMP:20260422T110843
CREATED:20250522T201017Z
LAST-MODIFIED:20250522T201117Z
UID:10000509-1750244400-1750248000@alamotexas.org
SUMMARY:Rally Credit Union Ribbon Cutting Ceremony
DESCRIPTION:Join us as we celebrate the Ribbon cutting ceremony of Rally Credit Union-Alamo at 1317 W. Frontage Road.
URL:https://alamotexas.org/event/rally-credit-union-ribbon-cutting-ceremony/
LOCATION:Rally Credit Union-Alamo\, 1317 W. Frontage Road\, Alamo\, TX\, 78516\, United States
CATEGORIES:Events
END:VEVENT
BEGIN:VEVENT
DTSTART;TZID=America/Chicago:20250618T180000
DTEND;TZID=America/Chicago:20250618T190000
DTSTAMP:20260422T110843
CREATED:20250415T234859Z
LAST-MODIFIED:20250415T234859Z
UID:10000495-1750269600-1750273200@alamotexas.org
SUMMARY:Planning and Zoning Meeting
DESCRIPTION:
URL:https://alamotexas.org/event/planning-and-zoning-meeting-3/
LOCATION:Alamo City Hall\, 420 N. Tower Rd\, Alamo\, TX\, 78516\, United States
END:VEVENT
END:VCALENDAR