BEGIN:VCALENDAR
VERSION:2.0
PRODID:-//City of Alamo - ECPv6.15.16//NONSGML v1.0//EN
CALSCALE:GREGORIAN
METHOD:PUBLISH
X-ORIGINAL-URL:https://alamotexas.org
X-WR-CALDESC:Events for City of Alamo
REFRESH-INTERVAL;VALUE=DURATION:PT1H
X-Robots-Tag:noindex
X-PUBLISHED-TTL:PT1H
BEGIN:VTIMEZONE
TZID:America/Chicago
BEGIN:DAYLIGHT
TZOFFSETFROM:-0600
TZOFFSETTO:-0500
TZNAME:CDT
DTSTART:20240310T080000
END:DAYLIGHT
BEGIN:STANDARD
TZOFFSETFROM:-0500
TZOFFSETTO:-0600
TZNAME:CST
DTSTART:20241103T070000
END:STANDARD
BEGIN:DAYLIGHT
TZOFFSETFROM:-0600
TZOFFSETTO:-0500
TZNAME:CDT
DTSTART:20250309T080000
END:DAYLIGHT
BEGIN:STANDARD
TZOFFSETFROM:-0500
TZOFFSETTO:-0600
TZNAME:CST
DTSTART:20251102T070000
END:STANDARD
BEGIN:DAYLIGHT
TZOFFSETFROM:-0600
TZOFFSETTO:-0500
TZNAME:CDT
DTSTART:20260308T080000
END:DAYLIGHT
BEGIN:STANDARD
TZOFFSETFROM:-0500
TZOFFSETTO:-0600
TZNAME:CST
DTSTART:20261101T070000
END:STANDARD
END:VTIMEZONE
BEGIN:VEVENT
DTSTART;TZID=America/Chicago:20251125T093000
DTEND;TZID=America/Chicago:20251125T120000
DTSTAMP:20260419T203342
CREATED:20251106T183512Z
LAST-MODIFIED:20251106T183512Z
UID:10000584-1764063000-1764072000@alamotexas.org
SUMMARY:Free Car Seat Checkup Event
DESCRIPTION:The Office of Emergency Management\, in partnership with Driscoll Children’s Hospital\, TxDOT\, TRAC V\, Alamo Fire Department and Alamo Police Department invites you to a Free Car Seat Checkup Event! 💛\n📍 Alamo Fire Station #1 (125 S. 9th St.)\n📅 Tuesday\, November 25\, 2025\n🕤 9:30 AM – 12 PM\nThis event is by appointment only — we’ll have several certified technicians available to assist you. Bring your child\, their car seat\, and your vehicle\, and our team will inspect your setup to ensure it’s safe and properly installed.\n📞 Call 956-787-5787 to schedule your appointment.\n💡 Did you know that 4 out of 5 car seats are installed incorrectly? Let’s make sure yours isn’t one of them!
URL:https://alamotexas.org/event/free-car-seat-checkup-event/
LOCATION:Fire Station #1\, 125 S. 9th Street\, Alamo\, TX\, 78516\, United States
CATEGORIES:Events
ATTACH;FMTTYPE=image/jpeg:https://alamotexas.org/wp-content/uploads/2025/11/Free-Car-Seat-Checkup-Event-Flyer-2025.jpg
END:VEVENT
END:VCALENDAR