BEGIN:VCALENDAR
VERSION:2.0
PRODID:-//City of Alamo - ECPv6.15.16//NONSGML v1.0//EN
CALSCALE:GREGORIAN
METHOD:PUBLISH
X-WR-CALNAME:City of Alamo
X-ORIGINAL-URL:https://alamotexas.org
X-WR-CALDESC:Events for City of Alamo
REFRESH-INTERVAL;VALUE=DURATION:PT1H
X-Robots-Tag:noindex
X-PUBLISHED-TTL:PT1H
BEGIN:VTIMEZONE
TZID:America/Chicago
BEGIN:DAYLIGHT
TZOFFSETFROM:-0600
TZOFFSETTO:-0500
TZNAME:CDT
DTSTART:20250309T080000
END:DAYLIGHT
BEGIN:STANDARD
TZOFFSETFROM:-0500
TZOFFSETTO:-0600
TZNAME:CST
DTSTART:20251102T070000
END:STANDARD
BEGIN:DAYLIGHT
TZOFFSETFROM:-0600
TZOFFSETTO:-0500
TZNAME:CDT
DTSTART:20260308T080000
END:DAYLIGHT
BEGIN:STANDARD
TZOFFSETFROM:-0500
TZOFFSETTO:-0600
TZNAME:CST
DTSTART:20261101T070000
END:STANDARD
BEGIN:DAYLIGHT
TZOFFSETFROM:-0600
TZOFFSETTO:-0500
TZNAME:CDT
DTSTART:20270314T080000
END:DAYLIGHT
BEGIN:STANDARD
TZOFFSETFROM:-0500
TZOFFSETTO:-0600
TZNAME:CST
DTSTART:20271107T070000
END:STANDARD
END:VTIMEZONE
BEGIN:VEVENT
DTSTART;TZID=America/Chicago:20260123T160000
DTEND;TZID=America/Chicago:20260123T160000
DTSTAMP:20260419T095321
CREATED:20260123T144719Z
LAST-MODIFIED:20260123T144719Z
UID:10000639-1769184000-1769184000@alamotexas.org
SUMMARY:Free Blankets For Alamo Residents
DESCRIPTION:Staying warm\, together 🧣❄️\nWith colder temperatures on the way\, the City of Alamo Fire and Police Departments are offering FREE blankets to Alamo residents to help keep our community safe and warm. \n📅 Friday\, January 23\n⏰ 4:00 PM\n📍 Chief Rolando Espinoza Fire Station No. 2\n415 N. Tower Rd. Alamo TX 78516 \n🪪 Please bring an ID for verification\n🧤 While supplies last \nWe’re here for you\, Alamo. Stay warm and stay safe
URL:https://alamotexas.org/event/free-blankets-for-alamo-residents/
LOCATION:Chief Rolando Espinoza Fire Station No. 2\, 415 N. Tower Rd\, Alamo\, TX\, 78516\, United States
CATEGORIES:Events
ATTACH;FMTTYPE=image/jpeg:https://alamotexas.org/wp-content/uploads/2026/01/Free-Blankets-Flyer-2025.jpg
END:VEVENT
END:VCALENDAR