BEGIN:VCALENDAR
VERSION:2.0
PRODID:-//City of Alamo - ECPv6.15.16//NONSGML v1.0//EN
CALSCALE:GREGORIAN
METHOD:PUBLISH
X-ORIGINAL-URL:https://alamotexas.org
X-WR-CALDESC:Events for City of Alamo
REFRESH-INTERVAL;VALUE=DURATION:PT1H
X-Robots-Tag:noindex
X-PUBLISHED-TTL:PT1H
BEGIN:VTIMEZONE
TZID:America/Chicago
BEGIN:DAYLIGHT
TZOFFSETFROM:-0600
TZOFFSETTO:-0500
TZNAME:CDT
DTSTART:20250309T080000
END:DAYLIGHT
BEGIN:STANDARD
TZOFFSETFROM:-0500
TZOFFSETTO:-0600
TZNAME:CST
DTSTART:20251102T070000
END:STANDARD
BEGIN:DAYLIGHT
TZOFFSETFROM:-0600
TZOFFSETTO:-0500
TZNAME:CDT
DTSTART:20260308T080000
END:DAYLIGHT
BEGIN:STANDARD
TZOFFSETFROM:-0500
TZOFFSETTO:-0600
TZNAME:CST
DTSTART:20261101T070000
END:STANDARD
BEGIN:DAYLIGHT
TZOFFSETFROM:-0600
TZOFFSETTO:-0500
TZNAME:CDT
DTSTART:20270314T080000
END:DAYLIGHT
BEGIN:STANDARD
TZOFFSETFROM:-0500
TZOFFSETTO:-0600
TZNAME:CST
DTSTART:20271107T070000
END:STANDARD
END:VTIMEZONE
BEGIN:VEVENT
DTSTART;VALUE=DATE:20261012
DTEND;VALUE=DATE:20261013
DTSTAMP:20260419T125657
CREATED:20251217T230322Z
LAST-MODIFIED:20251217T230322Z
UID:10000603-1791763200-1791849599@alamotexas.org
SUMMARY:Columbus Day - City Offices Closed
DESCRIPTION:Wikipedia: Columbus Day is a national holiday in many countries of the Americas and elsewhere\, and a federal holiday in the United States\, which officially celebrates the anniversary of Christopher Columbus’s arrival in the Americas. He went ashore at Guanahaní\, an island in the Bahamas\, on October 12\, 1492 [OS]. He built La Navidad on the northwestern coast of the island of Hispaniola (now present-day Haiti) in late December of 1492\, the first European fort in the Americas. After the destruction of the fort by the indigenous Taíno people\, Columbus established La Isabela on the central-northern coast of the island (now present-day Dominican Republic) in late December of 1493\, the first stable settlement in the Americas.
URL:https://alamotexas.org/event/columbus-day-city-offices-closed-2/
LOCATION:TX
CATEGORIES:Events
END:VEVENT
END:VCALENDAR