BEGIN:VCALENDAR
VERSION:2.0
PRODID:-//City of Alamo - ECPv6.15.16//NONSGML v1.0//EN
CALSCALE:GREGORIAN
METHOD:PUBLISH
X-WR-CALNAME:City of Alamo
X-ORIGINAL-URL:https://alamotexas.org
X-WR-CALDESC:Events for City of Alamo
REFRESH-INTERVAL;VALUE=DURATION:PT1H
X-Robots-Tag:noindex
X-PUBLISHED-TTL:PT1H
BEGIN:VTIMEZONE
TZID:America/Chicago
BEGIN:DAYLIGHT
TZOFFSETFROM:-0600
TZOFFSETTO:-0500
TZNAME:CDT
DTSTART:20250309T080000
END:DAYLIGHT
BEGIN:STANDARD
TZOFFSETFROM:-0500
TZOFFSETTO:-0600
TZNAME:CST
DTSTART:20251102T070000
END:STANDARD
BEGIN:DAYLIGHT
TZOFFSETFROM:-0600
TZOFFSETTO:-0500
TZNAME:CDT
DTSTART:20260308T080000
END:DAYLIGHT
BEGIN:STANDARD
TZOFFSETFROM:-0500
TZOFFSETTO:-0600
TZNAME:CST
DTSTART:20261101T070000
END:STANDARD
BEGIN:DAYLIGHT
TZOFFSETFROM:-0600
TZOFFSETTO:-0500
TZNAME:CDT
DTSTART:20270314T080000
END:DAYLIGHT
BEGIN:STANDARD
TZOFFSETFROM:-0500
TZOFFSETTO:-0600
TZNAME:CST
DTSTART:20271107T070000
END:STANDARD
END:VTIMEZONE
BEGIN:VEVENT
DTSTART;VALUE=DATE:20261111
DTEND;VALUE=DATE:20261112
DTSTAMP:20260419T142406
CREATED:20251217T230521Z
LAST-MODIFIED:20251217T230521Z
UID:10000604-1794355200-1794441599@alamotexas.org
SUMMARY:Veterans Day - City Offices Closed
DESCRIPTION:Veterans Day (originally known as Armistice Day) is a federal holiday in the United States observed annually on November 11\, for honoring military veterans of the United States Armed Forces. It coincides with holidays in several countries\, including Armistice Day and Remembrance Day\, which also occur on the anniversary of the end of World War I. Major hostilities of World War I were formally ended at the 11th hour of the 11th day of the 11th month of 1918 when the Armistice with Germany went into effect. At the urging of major U.S. veteran organizations\, Armistice Day was renamed Veterans Day in 1954.[4]
URL:https://alamotexas.org/event/veterans-day-city-offices-closed-2/
LOCATION:TX
CATEGORIES:Events
END:VEVENT
END:VCALENDAR