BEGIN:VCALENDAR
VERSION:2.0
PRODID:-//City of Alamo - ECPv6.15.16//NONSGML v1.0//EN
CALSCALE:GREGORIAN
METHOD:PUBLISH
X-ORIGINAL-URL:https://alamotexas.org
X-WR-CALDESC:Events for City of Alamo
REFRESH-INTERVAL;VALUE=DURATION:PT1H
X-Robots-Tag:noindex
X-PUBLISHED-TTL:PT1H
BEGIN:VTIMEZONE
TZID:America/Chicago
BEGIN:DAYLIGHT
TZOFFSETFROM:-0600
TZOFFSETTO:-0500
TZNAME:CDT
DTSTART:20250309T080000
END:DAYLIGHT
BEGIN:STANDARD
TZOFFSETFROM:-0500
TZOFFSETTO:-0600
TZNAME:CST
DTSTART:20251102T070000
END:STANDARD
BEGIN:DAYLIGHT
TZOFFSETFROM:-0600
TZOFFSETTO:-0500
TZNAME:CDT
DTSTART:20260308T080000
END:DAYLIGHT
BEGIN:STANDARD
TZOFFSETFROM:-0500
TZOFFSETTO:-0600
TZNAME:CST
DTSTART:20261101T070000
END:STANDARD
BEGIN:DAYLIGHT
TZOFFSETFROM:-0600
TZOFFSETTO:-0500
TZNAME:CDT
DTSTART:20270314T080000
END:DAYLIGHT
BEGIN:STANDARD
TZOFFSETFROM:-0500
TZOFFSETTO:-0600
TZNAME:CST
DTSTART:20271107T070000
END:STANDARD
END:VTIMEZONE
BEGIN:VEVENT
DTSTART;VALUE=DATE:20261126
DTEND;VALUE=DATE:20261127
DTSTAMP:20260419T142456
CREATED:20251217T230716Z
LAST-MODIFIED:20251217T230716Z
UID:10000605-1795651200-1795737599@alamotexas.org
SUMMARY:Thanksgiving Day - City Offices Closed
DESCRIPTION:Wikipedia: Thanksgiving is a federal holiday in the United States celebrated on the fourth Thursday of November (which became the uniform date country-wide in 1941). The earliest Thanksgiving can occur is November 22; the latest is November 28. Outside the United States\, it is called American Thanksgiving to distinguish it from the Canadian holiday of the same name and related celebrations in other regions. As the name implies\, the holiday generally revolves around giving thanks and the centerpiece of most celebrations is a Thanksgiving dinner with family and friends.
URL:https://alamotexas.org/event/thanksgiving-day-city-offices-closed-2/
LOCATION:TX
CATEGORIES:Events
END:VEVENT
END:VCALENDAR