BEGIN:VCALENDAR
VERSION:2.0
PRODID:-//City of Alamo - ECPv6.15.16//NONSGML v1.0//EN
CALSCALE:GREGORIAN
METHOD:PUBLISH
X-WR-CALNAME:City of Alamo
X-ORIGINAL-URL:https://alamotexas.org
X-WR-CALDESC:Events for City of Alamo
REFRESH-INTERVAL;VALUE=DURATION:PT1H
X-Robots-Tag:noindex
X-PUBLISHED-TTL:PT1H
BEGIN:VTIMEZONE
TZID:America/Chicago
BEGIN:DAYLIGHT
TZOFFSETFROM:-0600
TZOFFSETTO:-0500
TZNAME:CDT
DTSTART:20250309T080000
END:DAYLIGHT
BEGIN:STANDARD
TZOFFSETFROM:-0500
TZOFFSETTO:-0600
TZNAME:CST
DTSTART:20251102T070000
END:STANDARD
BEGIN:DAYLIGHT
TZOFFSETFROM:-0600
TZOFFSETTO:-0500
TZNAME:CDT
DTSTART:20260308T080000
END:DAYLIGHT
BEGIN:STANDARD
TZOFFSETFROM:-0500
TZOFFSETTO:-0600
TZNAME:CST
DTSTART:20261101T070000
END:STANDARD
BEGIN:DAYLIGHT
TZOFFSETFROM:-0600
TZOFFSETTO:-0500
TZNAME:CDT
DTSTART:20270314T080000
END:DAYLIGHT
BEGIN:STANDARD
TZOFFSETFROM:-0500
TZOFFSETTO:-0600
TZNAME:CST
DTSTART:20271107T070000
END:STANDARD
END:VTIMEZONE
BEGIN:VEVENT
DTSTART;VALUE=DATE:20260101
DTEND;VALUE=DATE:20260102
DTSTAMP:20260419T082147
CREATED:20250902T235822Z
LAST-MODIFIED:20250902T235822Z
UID:10000547-1767225600-1767311999@alamotexas.org
SUMMARY:New Year's Day - City Offices Closed
DESCRIPTION:
URL:https://alamotexas.org/event/new-years-day-city-offices-closed-2/
LOCATION:TX
CATEGORIES:Events
END:VEVENT
BEGIN:VEVENT
DTSTART;TZID=America/Chicago:20260106T170000
DTEND;TZID=America/Chicago:20260106T170000
DTSTAMP:20260419T082147
CREATED:20251229T232759Z
LAST-MODIFIED:20251229T232823Z
UID:10000636-1767718800-1767718800@alamotexas.org
SUMMARY:Board Of Commissioners Workshop
DESCRIPTION:
URL:https://alamotexas.org/event/board-of-commissioners-workshop-8/
LOCATION:Alamo City Hall\, 420 N. Tower Rd\, Alamo\, TX\, 78516\, United States
CATEGORIES:Events
END:VEVENT
BEGIN:VEVENT
DTSTART;TZID=America/Chicago:20260106T180000
DTEND;TZID=America/Chicago:20260106T190000
DTSTAMP:20260419T082147
CREATED:20251104T163851Z
LAST-MODIFIED:20251104T163851Z
UID:10000578-1767722400-1767726000@alamotexas.org
SUMMARY:Board of Commissioners Regular Meeting
DESCRIPTION:
URL:https://alamotexas.org/event/board-of-commissioners-regular-meeting-21/
LOCATION:Alamo City Hall\, 420 N. Tower Rd\, Alamo\, TX\, 78516\, United States
CATEGORIES:Events
END:VEVENT
BEGIN:VEVENT
DTSTART;TZID=America/Chicago:20260110T080000
DTEND;TZID=America/Chicago:20260110T120000
DTSTAMP:20260419T082147
CREATED:20251104T163643Z
LAST-MODIFIED:20251217T212217Z
UID:10000577-1768032000-1768046400@alamotexas.org
SUMMARY:Inaugural Resolution Run
DESCRIPTION:Start the year off right at our Inaugural Resolution Run! 🏃‍♀️💥 \nKick off 2026 with a fun and energizing community run hosted by the City of Alamo! Join us for a morning of fitness\, medals\, and motivation as we ring in the new year together. \n📅 Date: Saturday\, January 10\, 2026\n📍 Location: Alamo Central Park — 800 E. Main St.\, Alamo\, TX 78516 \n🕗 Race Times & Fees: \nFun Run (medal only) – 8:00 AM ($10)\n10K Run – 8:30 AM ($30)\n5K Run – 9:30 AM ($25) \n🗓️ Registration Deadline: January 9\n👕 Shirt Registration Deadline: December 22\n📦 Packet Pickup: January 9 | 8 AM–8 PM at Alamo Parks & Recreation Office \nRegister online at alamoparks.recdesk.com or scan the QR code on the flyer!\nLet’s run toward progress\, one step at a time! \nClick https://alamotexas.org/resolution-run for more information.
URL:https://alamotexas.org/event/inaugural-resolution-run/
LOCATION:Central Park\, 800 E. Main Street\, Alamo\, TX\, 78516\, United States
CATEGORIES:Events
ATTACH;FMTTYPE=image/jpeg:https://alamotexas.org/wp-content/uploads/2025/11/Inaugural-Resolution-Run-Flyer-2025.jpg
END:VEVENT
BEGIN:VEVENT
DTSTART;VALUE=DATE:20260119
DTEND;VALUE=DATE:20260120
DTSTAMP:20260419T082147
CREATED:20251217T211814Z
LAST-MODIFIED:20260115T211614Z
UID:10000593-1768780800-1768867199@alamotexas.org
SUMMARY:Martin Luther King Jr. Day - Offices Closed
DESCRIPTION:Martin Luther King Jr. Day (officially Birthday of Martin Luther King Jr.\, and often referred to shorthand as MLK Day) is a federal holiday in the United States observed on the third Monday of January each year. King was the chief spokesperson for nonviolent activism in the Civil Rights Movement\, which protested racial discrimination in federal and state law and civil society. The movement led to several groundbreaking legislative reforms in the United States.
URL:https://alamotexas.org/event/martin-luther-king-jr-day-offices-closed/
LOCATION:TX
CATEGORIES:Events
ATTACH;FMTTYPE=image/jpeg:https://alamotexas.org/wp-content/uploads/2026/01/MLK-Day-Flyer-2025.jpg
END:VEVENT
BEGIN:VEVENT
DTSTART;TZID=America/Chicago:20260120T180000
DTEND;TZID=America/Chicago:20260120T190000
DTSTAMP:20260419T082147
CREATED:20251104T163936Z
LAST-MODIFIED:20251104T163936Z
UID:10000579-1768932000-1768935600@alamotexas.org
SUMMARY:Board of Commissioners Regular Meeting
DESCRIPTION:
URL:https://alamotexas.org/event/board-of-commissioners-regular-meeting-22/
LOCATION:Alamo City Hall\, 420 N. Tower Rd\, Alamo\, TX\, 78516\, United States
CATEGORIES:Events
END:VEVENT
BEGIN:VEVENT
DTSTART;TZID=America/Chicago:20260123T160000
DTEND;TZID=America/Chicago:20260123T160000
DTSTAMP:20260419T082147
CREATED:20260123T144719Z
LAST-MODIFIED:20260123T144719Z
UID:10000639-1769184000-1769184000@alamotexas.org
SUMMARY:Free Blankets For Alamo Residents
DESCRIPTION:Staying warm\, together 🧣❄️\nWith colder temperatures on the way\, the City of Alamo Fire and Police Departments are offering FREE blankets to Alamo residents to help keep our community safe and warm. \n📅 Friday\, January 23\n⏰ 4:00 PM\n📍 Chief Rolando Espinoza Fire Station No. 2\n415 N. Tower Rd. Alamo TX 78516 \n🪪 Please bring an ID for verification\n🧤 While supplies last \nWe’re here for you\, Alamo. Stay warm and stay safe
URL:https://alamotexas.org/event/free-blankets-for-alamo-residents/
LOCATION:Chief Rolando Espinoza Fire Station No. 2\, 415 N. Tower Rd\, Alamo\, TX\, 78516\, United States
CATEGORIES:Events
ATTACH;FMTTYPE=image/jpeg:https://alamotexas.org/wp-content/uploads/2026/01/Free-Blankets-Flyer-2025.jpg
END:VEVENT
BEGIN:VEVENT
DTSTART;TZID=America/Chicago:20260126T170000
DTEND;TZID=America/Chicago:20260126T170000
DTSTAMP:20260419T082147
CREATED:20260123T220742Z
LAST-MODIFIED:20260123T220742Z
UID:10000641-1769446800-1769446800@alamotexas.org
SUMMARY:Traffic Safety Committee Regular Meeting - Cancelled
DESCRIPTION:
URL:https://alamotexas.org/event/traffic-safety-committee-regular-meeting-cancelled/
LOCATION:Alamo City Hall\, 420 N. Tower Rd\, Alamo\, TX\, 78516\, United States
CATEGORIES:Events
END:VEVENT
BEGIN:VEVENT
DTSTART;TZID=America/Chicago:20260128T170000
DTEND;TZID=America/Chicago:20260128T180000
DTSTAMP:20260419T082147
CREATED:20260123T215600Z
LAST-MODIFIED:20260123T215600Z
UID:10000640-1769619600-1769623200@alamotexas.org
SUMMARY:Board of Commissioners Special Meeting
DESCRIPTION:
URL:https://alamotexas.org/event/board-of-commissioners-special-meeting-6/
LOCATION:Alamo City Hall\, 420 N. Tower Rd\, Alamo\, TX\, 78516\, United States
CATEGORIES:Events
END:VEVENT
BEGIN:VEVENT
DTSTART;TZID=America/Chicago:20260128T173000
DTEND;TZID=America/Chicago:20260128T183000
DTSTAMP:20260419T082147
CREATED:20260122T232923Z
LAST-MODIFIED:20260122T232958Z
UID:10000638-1769621400-1769625000@alamotexas.org
SUMMARY:Zoning Board of Adjustments
DESCRIPTION:Board Meetings and Agendas
URL:https://alamotexas.org/event/zoning-board-of-adjustments/
LOCATION:Alamo City Hall\, 420 N. Tower Rd\, Alamo\, TX\, 78516\, United States
CATEGORIES:Events
END:VEVENT
BEGIN:VEVENT
DTSTART;TZID=America/Chicago:20260129T190000
DTEND;TZID=America/Chicago:20260129T190000
DTSTAMP:20260419T082147
CREATED:20251124T162041Z
LAST-MODIFIED:20251229T160523Z
UID:10000587-1769713200-1769713200@alamotexas.org
SUMMARY:Alamo Chamber of Commerce Annual Taste Of Alamo
DESCRIPTION:Alamo Chamber of Commerce Annual TASTE OF ALAMO is BACK!Save the date- January 29\, 2026Join us for an evening of delicious food tastings from our local restaurants\, great entertainment\, and a night dedicated to celebrating our amazing community supporters- and a major milestone for our Chamber: our 40th Anniversary! Call 956-7897-2117 for more information or visit https://www.facebook.com/alamochamberofcommerce
URL:https://alamotexas.org/event/alamo-chamber-of-commerce-annual-taste-of-alamo/
LOCATION:Palazzio Event Center\, 503 State Hwy 495\, Alamo\, TX\, 78516\, United States
CATEGORIES:Events
ATTACH;FMTTYPE=image/jpeg:https://alamotexas.org/wp-content/uploads/2025/12/Taste-of-Alamo-2025-Flyer.jpg
ORGANIZER;CN="Alamo Chamber of Commerce":MAILTO:alamotx.chamber@gmail.com
END:VEVENT
BEGIN:VEVENT
DTSTART;TZID=America/Chicago:20260131T103000
DTEND;TZID=America/Chicago:20260131T103000
DTSTAMP:20260419T082147
CREATED:20260120T200324Z
LAST-MODIFIED:20260120T200324Z
UID:10000637-1769855400-1769855400@alamotexas.org
SUMMARY:Sgt Fernando De La Rosa Memorial Library - Questions & Answers: U.S. Citizenship Process
DESCRIPTION:QUESTIONS & ANSWERS: U.S. CITIZENSHIP PROCESS \nJoin us for a FREE Questions & Answers session on the U.S. citizenship application process with immigration attorney Oralia de Luna\, who will provide helpful information and answer your questions. \n📅 Saturday\, January 31\, 2026\n⏰ 10:30 a.m.\n📍 Sgt. Fernando de la Rosa Memorial Library\n📍 416 N. Tower Rd.\, Alamo\, TX 78516 \nThis is a great opportunity to get informed\, ask questions\, and receive helpful guidance. We hope to see you there! \nPREGUNTAS Y RESPUESTAS: PROCESO DE CIUDADANÍA \nAcompáñenos a una sesión GRATUITA de Preguntas y Respuestas sobre el proceso de solicitud de la ciudadanía estadounidense con la abogada de inmigración Oralia de Luna\, quien compartirá información útil y responderá sus preguntas. \n📅 Sábado\, 31 de enero de 2026\n⏰ 10:30 a.m.\n📍 Sgt. Fernando de la Rosa Memorial Library\n📍 416 N. Tower Rd.\, Alamo\, TX 78516 \nEs una excelente oportunidad para informarse\, aclarar dudas y recibir orientación confiable. ¡Todos son bienvenidos!
URL:https://alamotexas.org/event/sgt-fernando-de-la-rosa-memorial-library-questions-answers-u-s-citizenship-process/
LOCATION:Sgt. Fernando De La Rosa Memorial Library\, 416 N Tower Rd\, Alamo\, TX\, 78516\, United States
CATEGORIES:Events
ATTACH;FMTTYPE=image/jpeg:https://alamotexas.org/wp-content/uploads/2026/01/CITIZENSHIP-PROCESS-Flyer.jpg
END:VEVENT
END:VCALENDAR