BEGIN:VCALENDAR
VERSION:2.0
PRODID:-//City of Alamo - ECPv6.15.16//NONSGML v1.0//EN
CALSCALE:GREGORIAN
METHOD:PUBLISH
X-WR-CALNAME:City of Alamo
X-ORIGINAL-URL:https://alamotexas.org
X-WR-CALDESC:Events for City of Alamo
REFRESH-INTERVAL;VALUE=DURATION:PT1H
X-Robots-Tag:noindex
X-PUBLISHED-TTL:PT1H
BEGIN:VTIMEZONE
TZID:America/Chicago
BEGIN:DAYLIGHT
TZOFFSETFROM:-0600
TZOFFSETTO:-0500
TZNAME:CDT
DTSTART:20250309T080000
END:DAYLIGHT
BEGIN:STANDARD
TZOFFSETFROM:-0500
TZOFFSETTO:-0600
TZNAME:CST
DTSTART:20251102T070000
END:STANDARD
BEGIN:DAYLIGHT
TZOFFSETFROM:-0600
TZOFFSETTO:-0500
TZNAME:CDT
DTSTART:20260308T080000
END:DAYLIGHT
BEGIN:STANDARD
TZOFFSETFROM:-0500
TZOFFSETTO:-0600
TZNAME:CST
DTSTART:20261101T070000
END:STANDARD
BEGIN:DAYLIGHT
TZOFFSETFROM:-0600
TZOFFSETTO:-0500
TZNAME:CDT
DTSTART:20270314T080000
END:DAYLIGHT
BEGIN:STANDARD
TZOFFSETFROM:-0500
TZOFFSETTO:-0600
TZNAME:CST
DTSTART:20271107T070000
END:STANDARD
END:VTIMEZONE
BEGIN:VEVENT
DTSTART;TZID=America/Chicago:20260203T170000
DTEND;TZID=America/Chicago:20260203T180000
DTSTAMP:20260419T070058
CREATED:20260126T164854Z
LAST-MODIFIED:20260126T165319Z
UID:10000642-1770138000-1770141600@alamotexas.org
SUMMARY:Draft Alamo Comprehensive Plan
DESCRIPTION:The City of Alamo is sharing the Draft Comprehensive Plan for public review and feedback. This draft reflects input from community surveys\, public meetings\, and stakeholder discussions and will guide the City’s long-term growth and priorities.\nThis is a draft document and is not final.\nClick here to view the Draft Comprehensive Plan. \nAn online feedback survey is accessible by clicking this link:\nhttps://arcg.is/0KubfH0\nResidents are also invited to attend two in-person feedback opportunities on Tuesday\, February 3\, at Alamo City Hall:\nOpen House | 5:00–6:00 PM\nReview printed copies of the draft plan\, ask questions\, and share feedback.\nCity Council Meeting | 6:00 PM\nA presentation of the draft plan will be followed by an opportunity for formal public comment.\nCommunity input during this review period will help shape the final Comprehensive Plan.
URL:https://alamotexas.org/event/draft-alamo-comprehensive-plan/
LOCATION:Alamo City Hall\, 420 N. Tower Rd\, Alamo\, TX\, 78516\, United States
CATEGORIES:Events
ATTACH;FMTTYPE=image/jpeg:https://alamotexas.org/wp-content/uploads/2026/01/Alamo_Comprehensive-Plan_Page_01-scaled.jpg
END:VEVENT
BEGIN:VEVENT
DTSTART;TZID=America/Chicago:20260203T180000
DTEND;TZID=America/Chicago:20260203T190000
DTSTAMP:20260419T070058
CREATED:20251219T211458Z
LAST-MODIFIED:20251219T211459Z
UID:10000611-1770141600-1770145200@alamotexas.org
SUMMARY:Board of Commissioners Regular Meeting
DESCRIPTION:
URL:https://alamotexas.org/event/board-of-commissioners-regular-meeting-23/
LOCATION:Alamo City Hall\, 420 N. Tower Rd\, Alamo\, TX\, 78516\, United States
CATEGORIES:Events
END:VEVENT
BEGIN:VEVENT
DTSTART;TZID=America/Chicago:20260205T100000
DTEND;TZID=America/Chicago:20260205T100000
DTSTAMP:20260419T070058
CREATED:20260126T182108Z
LAST-MODIFIED:20260126T182108Z
UID:10000643-1770285600-1770285600@alamotexas.org
SUMMARY:Public Safety Building Groundbreaking
DESCRIPTION:A foundation for safety\, service\, and the future.\nThe City of Alamo invites the community to the groundbreaking of its new Public Safety Building. Designed to meet the evolving needs of our public safety teams\, this facility marks a significant step forward in strengthening operations\, preparedness\, and long-term service to our residents. \n📅 Thursday\, February 5\, 2026\n⏰ 10:00 a.m.\n📍 414 Professional Drive
URL:https://alamotexas.org/event/public-safety-building-groundbreaking/
LOCATION:Public Safety Building\, 414 Professional Drive\, Alamo\, TX\, 78516\, United States
CATEGORIES:Events
ATTACH;FMTTYPE=image/jpeg:https://alamotexas.org/wp-content/uploads/2026/01/Public-Safety-Groundbreaking-2026-Flyer.jpg
END:VEVENT
BEGIN:VEVENT
DTSTART;VALUE=DATE:20260216
DTEND;VALUE=DATE:20260217
DTSTAMP:20260419T070058
CREATED:20251217T213449Z
LAST-MODIFIED:20260211T145409Z
UID:10000594-1771200000-1771286399@alamotexas.org
SUMMARY:President's Day - City Offices Closed
DESCRIPTION:Wikipedia: Presidents’ Day\, officially Washington’s Birthday at the federal governmental level\, is a holiday in the United States celebrated on the third Monday of February. It is often celebrated to honor all those who served as presidents of the United States and\, since 1879\, has been the federal holiday honoring Founding Father George Washington\, who led the Continental Army to victory in the American Revolutionary War\, presided at the Constitutional Convention of 1787\, and served as the first U.S. president from 1789 to 1797.
URL:https://alamotexas.org/event/presidents-day-city-offices-closed-2/
LOCATION:TX
CATEGORIES:Events
ATTACH;FMTTYPE=image/jpeg:https://alamotexas.org/wp-content/uploads/2025/12/Presidents-Day-Flyer-2025.jpg
END:VEVENT
BEGIN:VEVENT
DTSTART;TZID=America/Chicago:20260217T180000
DTEND;TZID=America/Chicago:20260217T190000
DTSTAMP:20260419T070058
CREATED:20251219T211555Z
LAST-MODIFIED:20260211T142438Z
UID:10000612-1771351200-1771354800@alamotexas.org
SUMMARY:Board of Commissioners Regular Meeting - Rescheduled for February 24th
DESCRIPTION:
URL:https://alamotexas.org/event/board-of-commissioners-regular-meeting-24/
LOCATION:Alamo City Hall\, 420 N. Tower Rd\, Alamo\, TX\, 78516\, United States
CATEGORIES:Events
END:VEVENT
BEGIN:VEVENT
DTSTART;TZID=America/Chicago:20260218T180000
DTEND;TZID=America/Chicago:20260218T190000
DTSTAMP:20260419T070058
CREATED:20260213T153811Z
LAST-MODIFIED:20260213T153811Z
UID:10000649-1771437600-1771441200@alamotexas.org
SUMMARY:Planning & Zoning Regular Meeting
DESCRIPTION:
URL:https://alamotexas.org/event/planning-zoning-regular-meeting/
LOCATION:Alamo City Hall\, 420 N. Tower Rd\, Alamo\, TX\, 78516\, United States
CATEGORIES:Events
END:VEVENT
BEGIN:VEVENT
DTSTART;TZID=America/Chicago:20260221T110000
DTEND;TZID=America/Chicago:20260221T110000
DTSTAMP:20260419T070058
CREATED:20260211T220531Z
LAST-MODIFIED:20260220T150135Z
UID:10000648-1771671600-1771671600@alamotexas.org
SUMMARY:Sgt Fernando De La Rosa Memorial Library Citizenship Classes
DESCRIPTION:Citizenship Classes Now in Alamo!\nTake the next step on your citizenship journey right here at the Sergeant Fernando De La Rosa Memorial Library!\n📅 Orientation & Registration: Saturday\, February 21\, 2026\n⏰ 11:00 AM\n📍 416 N Tower Rd\, Alamo\, TX 78516\nClasses will be led by Ms. Raquel Franco and will take place every Saturday at 11:00 AM at the library.
URL:https://alamotexas.org/event/sgt-fernando-de-la-rosa-memorial-library-citizenship-classes/2026-02-21/
LOCATION:Sgt. Fernando De La Rosa Memorial Library\, 416 N Tower Rd\, Alamo\, TX\, 78516\, United States
CATEGORIES:Events
ATTACH;FMTTYPE=image/jpeg:https://alamotexas.org/wp-content/uploads/2026/02/SFDLRML-Citizenship-Class-2026-Flyer.jpg
END:VEVENT
BEGIN:VEVENT
DTSTART;TZID=America/Chicago:20260222T140000
DTEND;TZID=America/Chicago:20260222T140000
DTSTAMP:20260419T070058
CREATED:20260203T150721Z
LAST-MODIFIED:20260203T150854Z
UID:10000645-1771768800-1771768800@alamotexas.org
SUMMARY:Miss Alamo 2026 Scholarship Pagent
DESCRIPTION:“Where there is love\, there is heart.” \n\n\nGet ready\, Alamo community! The Miss Alamo 2026 Scholarship Pageant is excited to invite you all to this year’s show: “Alamo Heart.” \n\n\nIt’s all about celebrating the passion\, spirit\, and unity that make our town so special. Join us as we come together with pride and heart… Alamo Heart.\n\nhttps://www.facebook.com/MissAlamoScholarshipPageant
URL:https://alamotexas.org/event/miss-alamo-2026-scholarship-pagent/
LOCATION:Roberto Gomez\, Jr. Performing Arts Center at PSJA Memorial High School\, 800 S. Alamo Rd\, Alamo\, TX\, 78516\, United States
CATEGORIES:Events
ATTACH;FMTTYPE=image/jpeg:https://alamotexas.org/wp-content/uploads/2026/02/Miss-Alamo-Pagent-flyer-2025.jpg
END:VEVENT
BEGIN:VEVENT
DTSTART;TZID=America/Chicago:20260223T180000
DTEND;TZID=America/Chicago:20260223T190000
DTSTAMP:20260419T070058
CREATED:20260220T214026Z
LAST-MODIFIED:20260220T214026Z
UID:10000666-1771869600-1771873200@alamotexas.org
SUMMARY:Traffic Safety Committee Regular Meeting - Rescheduled
DESCRIPTION:
URL:https://alamotexas.org/event/traffic-safety-committee-regular-meeting-rescheduled/
LOCATION:Alamo City Hall\, 420 N. Tower Rd\, Alamo\, TX\, 78516\, United States
CATEGORIES:Events
END:VEVENT
BEGIN:VEVENT
DTSTART;TZID=America/Chicago:20260224T170000
DTEND;TZID=America/Chicago:20260224T180000
DTSTAMP:20260419T070058
CREATED:20260218T230801Z
LAST-MODIFIED:20260218T230801Z
UID:10000650-1771952400-1771956000@alamotexas.org
SUMMARY:Board of Commissioners Workshop
DESCRIPTION:
URL:https://alamotexas.org/event/board-of-commissioners-workshop-9/
LOCATION:Alamo City Hall\, 420 N. Tower Rd\, Alamo\, TX\, 78516\, United States
CATEGORIES:Events
END:VEVENT
BEGIN:VEVENT
DTSTART;TZID=America/Chicago:20260224T180000
DTEND;TZID=America/Chicago:20260224T190000
DTSTAMP:20260419T070058
CREATED:20260211T142710Z
LAST-MODIFIED:20260218T230727Z
UID:10000647-1771956000-1771959600@alamotexas.org
SUMMARY:Board of Commissioners Special Meeting
DESCRIPTION:
URL:https://alamotexas.org/event/board-of-commissioners-meeting/
LOCATION:Alamo City Hall\, 420 N. Tower Rd\, Alamo\, TX\, 78516\, United States
CATEGORIES:Events
END:VEVENT
BEGIN:VEVENT
DTSTART;TZID=America/Chicago:20260226T133000
DTEND;TZID=America/Chicago:20260226T163000
DTSTAMP:20260419T070058
CREATED:20260203T151347Z
LAST-MODIFIED:20260203T151355Z
UID:10000646-1772112600-1772123400@alamotexas.org
SUMMARY:City of Alamo Blood Drive
DESCRIPTION:Give Blood. Give Hope. \nJoin us for the City of Alamo Vitalant Blood Drive and help save lives in our community.\n February 26\, 2026\n\n\n 1:30 – 4:30 PM\n\n\n Commissioner’s Room\n\n\n420 N. Tower Rd.\, Alamo\, TX 78516\n Every donation makes a difference\, and all successful donors will receive a free donor love t-shirt.\n Appointments are encouraged. Scan the QR code on the flyer or contact Anais at (956) 884-2437 to schedule.\nBecause of you\, life doesn’t stop.
URL:https://alamotexas.org/event/city-of-alamo-blood-drive-2/
LOCATION:Alamo City Hall\, 420 N. Tower Rd\, Alamo\, TX\, 78516\, United States
CATEGORIES:Events
ATTACH;FMTTYPE=image/jpeg:https://alamotexas.org/wp-content/uploads/2026/02/Blood-Drive-Flyer.jpg
END:VEVENT
BEGIN:VEVENT
DTSTART;TZID=America/Chicago:20260227T080000
DTEND;TZID=America/Chicago:20260227T080000
DTSTAMP:20260419T070058
CREATED:20260220T144854Z
LAST-MODIFIED:20260220T145106Z
UID:10000651-1772179200-1772179200@alamotexas.org
SUMMARY:2nd Annual Walking Southern Roads to Freedom
DESCRIPTION:Walking in the footsteps of history.\n\n\nJoin us for the 2nd Annual Walking Southern Roads to Freedom\, February 27 through March 1\, 2026. This powerful three day journey retraces the path of self emancipators who traveled through southern Hidalgo County and crossed the Rio Grande in pursuit of freedom.\n\n\nParticipants may register for one day or complete the full walk. The experience is free and open to the community.\n\n\nDay 1 begins at Alamo Central Park\nDay 2 continues from Webber Cemetery to Jackson Ranch Church\nDay 3 travels to the City of Hidalgo and across the International Bridge to Reynosa\, Mexico\nBe part of this meaningful historical commemoration and walk with purpose.\n\n\nRegister here: bit.ly/registertowalking\nFor more information contact Deb Stark at dlstark1220@gmail.com
URL:https://alamotexas.org/event/2nd-annual-walking-southern-roads-to-freedom/
LOCATION:Central Park\, 800 E. Main Street\, Alamo\, TX\, 78516\, United States
CATEGORIES:Events
ATTACH;FMTTYPE=image/jpeg:https://alamotexas.org/wp-content/uploads/2026/02/2nd-Annual-Walking-Southern-Roads-to-Freedom-2026-Flyer.jpg
ORGANIZER;CN="Deb Stark":MAILTO:dlstark1220@gmail.com
END:VEVENT
BEGIN:VEVENT
DTSTART;TZID=America/Chicago:20260228T110000
DTEND;TZID=America/Chicago:20260228T110000
DTSTAMP:20260419T070058
CREATED:20260211T220531Z
LAST-MODIFIED:20260220T150135Z
UID:10000652-1772276400-1772276400@alamotexas.org
SUMMARY:Sgt Fernando De La Rosa Memorial Library Citizenship Classes
DESCRIPTION:Citizenship Classes Now in Alamo!\nTake the next step on your citizenship journey right here at the Sergeant Fernando De La Rosa Memorial Library!\n📅 Orientation & Registration: Saturday\, February 21\, 2026\n⏰ 11:00 AM\n📍 416 N Tower Rd\, Alamo\, TX 78516\nClasses will be led by Ms. Raquel Franco and will take place every Saturday at 11:00 AM at the library.
URL:https://alamotexas.org/event/sgt-fernando-de-la-rosa-memorial-library-citizenship-classes/2026-02-28/
LOCATION:Sgt. Fernando De La Rosa Memorial Library\, 416 N Tower Rd\, Alamo\, TX\, 78516\, United States
CATEGORIES:Events
ATTACH;FMTTYPE=image/jpeg:https://alamotexas.org/wp-content/uploads/2026/02/SFDLRML-Citizenship-Class-2026-Flyer.jpg
END:VEVENT
END:VCALENDAR